BEGIN:VCALENDAR
VERSION:2.0
PRODID:-//Valley Life Family Worship Centre - ECPv6.15.17.1//NONSGML v1.0//EN
CALSCALE:GREGORIAN
METHOD:PUBLISH
X-WR-CALNAME:Valley Life Family Worship Centre
X-ORIGINAL-URL:https://valleylifeworship.ca
X-WR-CALDESC:Events for Valley Life Family Worship Centre
REFRESH-INTERVAL;VALUE=DURATION:PT1H
X-Robots-Tag:noindex
X-PUBLISHED-TTL:PT1H
BEGIN:VTIMEZONE
TZID:America/Winnipeg
BEGIN:DAYLIGHT
TZOFFSETFROM:-0600
TZOFFSETTO:-0500
TZNAME:CDT
DTSTART:20250309T080000
END:DAYLIGHT
BEGIN:STANDARD
TZOFFSETFROM:-0500
TZOFFSETTO:-0600
TZNAME:CST
DTSTART:20251102T070000
END:STANDARD
BEGIN:DAYLIGHT
TZOFFSETFROM:-0600
TZOFFSETTO:-0500
TZNAME:CDT
DTSTART:20260308T080000
END:DAYLIGHT
BEGIN:STANDARD
TZOFFSETFROM:-0500
TZOFFSETTO:-0600
TZNAME:CST
DTSTART:20261101T070000
END:STANDARD
BEGIN:DAYLIGHT
TZOFFSETFROM:-0600
TZOFFSETTO:-0500
TZNAME:CDT
DTSTART:20270314T080000
END:DAYLIGHT
BEGIN:STANDARD
TZOFFSETFROM:-0500
TZOFFSETTO:-0600
TZNAME:CST
DTSTART:20271107T070000
END:STANDARD
END:VTIMEZONE
BEGIN:VEVENT
DTSTART;TZID=America/Winnipeg:20260426T123000
DTEND;TZID=America/Winnipeg:20260426T140000
DTSTAMP:20260425T071630
CREATED:20260424T155925Z
LAST-MODIFIED:20260424T155925Z
UID:1086-1777206600-1777212000@valleylifeworship.ca
SUMMARY:Friendship Meal Rescheduled to next Sunday
DESCRIPTION:Please join us next Sunday\, May 3rd for a pot-blessing meal following our regular service!
URL:https://valleylifeworship.ca/event/friendship-meal-rescheduled-to-next-sunday/
LOCATION:Valley Life Family Worship Centre\, 52 - 2nd Avenue SW\, Minnedosa\, Manitoba\, R0J 1E0\, Canada
CATEGORIES:Lunch
END:VEVENT
END:VCALENDAR